BEGIN:VCALENDAR
VERSION:2.0
PRODID:-//Meditation on the Rise - ECPv6.1.3//NONSGML v1.0//EN
CALSCALE:GREGORIAN
METHOD:PUBLISH
X-WR-CALNAME:Meditation on the Rise
X-ORIGINAL-URL:http://meditationontherise.net
X-WR-CALDESC:Events for Meditation on the Rise
REFRESH-INTERVAL;VALUE=DURATION:PT1H
X-Robots-Tag:noindex
X-PUBLISHED-TTL:PT1H
BEGIN:VTIMEZONE
TZID:UTC
BEGIN:STANDARD
TZOFFSETFROM:+0000
TZOFFSETTO:+0000
TZNAME:UTC
DTSTART:20200101T000000
END:STANDARD
END:VTIMEZONE
BEGIN:VEVENT
DTSTART;TZID=UTC:20200109T093000
DTEND;TZID=UTC:20200109T104500
DTSTAMP:20260421T200115
CREATED:20191230T212053Z
LAST-MODIFIED:20191231T153101Z
UID:5426-1578562200-1578566700@meditationontherise.net
SUMMARY:Monthly Meditation Groups in Kensal Rise
DESCRIPTION:Sharing circle with guided shamanic visualisation to align with your peace and strength. \nEnergy Exchange of £15. \nBook your space: http://meditationontherise.net/product/thursday-meditation/ \nBook your space with me here. \n  \n  \n 
URL:http://meditationontherise.net/event/monthly-meditation-groups-in-kensal-rise/
CATEGORIES:Meditation
ATTACH;FMTTYPE=image/jpeg:http://meditationontherise.net/wp-content/uploads/2017/05/3up-guided-meditation.jpg
END:VEVENT
BEGIN:VEVENT
DTSTART;TZID=UTC:20200111T140000
DTEND;TZID=UTC:20200111T170000
DTSTAMP:20260421T200115
CREATED:20191230T212653Z
LAST-MODIFIED:20191231T153715Z
UID:5436-1578751200-1578762000@meditationontherise.net
SUMMARY:New Year Cacao Circle at Evolve Wellness\, South Kensington
DESCRIPTION:Setting your inner compass & trajectory for the New Year & the New Decade \nAn opportunity to connect clearly with your heart and the power of love. Deepen your experience of clarity\, hope\, and inspiration. \nThese rituals are offered in a lovingly held and empowered energy medicine space. \nThe Cacao Spirit will support you to release from your being all energies you’re ready to leave behind and to become increasingly magnetic to everything you wish to call in. \nI have been blessed to be leading Cacao rituals for over 5 years\, supporting those who come to make tangible shifts in their Being through this beautiful work. \nSee here for testimonials: www.meditationontherise.net/what-people-say/ \nExchange of £45\, Book with Evolve here. \n 
URL:http://meditationontherise.net/event/new-year-cacao-circle-setting-your-inner-compass-trajectory-for-the-new-year-the-new-decade/
LOCATION:Evolve Wellness\, South Kensington\, London\, United Kingdom
CATEGORIES:Cacao Rituals
ATTACH;FMTTYPE=image/jpeg:http://meditationontherise.net/wp-content/uploads/2017/05/cacao.jpg
END:VEVENT
BEGIN:VEVENT
DTSTART;TZID=UTC:20200122T183000
DTEND;TZID=UTC:20200122T200000
DTSTAMP:20260421T200115
CREATED:20191230T213828Z
LAST-MODIFIED:20191231T153831Z
UID:5450-1579717800-1579723200@meditationontherise.net
SUMMARY:New Moon at Evolve Wellness\, South Kensington
DESCRIPTION:Meditation\, Sound Bath and Circle to fuel your visions and intentions during the potent window fo the New Moon. Calling in and harnessing the vision\, clarity and emotional energy to bring these into being. \nI am offering many times and venues for this work with the intention to guide you to inspiration\, hope and determination to begin the new decade fully connected to your knowing and power. \nEvolve Wellness\, South Kensington\n6.30-8pm\, £22\nBook with Evolve here.
URL:http://meditationontherise.net/event/monthly-meditation-groups-in-kensal-rise-4/
LOCATION:Evolve Wellness\, South Kensington\, London\, United Kingdom
CATEGORIES:New Moon Circles
ATTACH;FMTTYPE=image/jpeg:http://meditationontherise.net/wp-content/uploads/2017/05/3up-audio-journeys.jpg
END:VEVENT
BEGIN:VEVENT
DTSTART;TZID=UTC:20200123T193000
DTEND;TZID=UTC:20200123T204500
DTSTAMP:20260421T200115
CREATED:20191230T214321Z
LAST-MODIFIED:20191231T154515Z
UID:5457-1579807800-1579812300@meditationontherise.net
SUMMARY:New Moon at The Hearth\, Queens Park
DESCRIPTION:Meditation\, Sound Bath and Circle to fuel your visions and intentions during the potent window fo the New Moon. Calling in and harnessing the vision\, clarity and emotional energy to bring these into being. \nI am offering many times and venues for this work with the intention to guide you to inspiration\, hope and determination to begin the new decade fully connected to your knowing and power. \nThe Hearth\, Queens Park\n7.30-8.45pm\, £15\nBook with The Hearth here.
URL:http://meditationontherise.net/event/new-moon-circles-3/
LOCATION:The Hearth\, Queens Park\, United Kingdom
CATEGORIES:New Moon Circles
ATTACH;FMTTYPE=image/jpeg:http://meditationontherise.net/wp-content/uploads/2017/05/3up-audio-journeys.jpg
END:VEVENT
BEGIN:VEVENT
DTSTART;TZID=UTC:20200125T130000
DTEND;TZID=UTC:20200125T170000
DTSTAMP:20260421T200115
CREATED:20191230T213031Z
LAST-MODIFIED:20191230T213120Z
UID:5439-1579957200-1579971600@meditationontherise.net
SUMMARY:La Ceremonia de Tres Plantas - A Ceremony of Three Plants
DESCRIPTION:Working with the intelligence of three sacred plants\, all safe and non-psychoactive yet deeply powerful; Cacao to open the heart plus 2 new guest star plants from the Amazon to strengthen compassion and illuminate your Truth.\nThis event is open to those who have completed The Path of the Medicine Woman.  \nSaturday 25th January\, 1-5pm\nKensal Rise\, £44.\nBook with me here. \nAn opportunity to connect clearly with your heart and the power of love. Deepen your experience of clarity\, hope\, and inspiration. \nThese rituals are offered in a lovingly held and empowered energy medicine space. \nThe Cacao Spirit will support you to release from your being all energies you’re ready to leave behind and to become increasingly magnetic to everything you wish to call in. \nI have been blessed to be leading Cacao rituals for over 5 years\, supporting those who come to make tangible shifts in their Being through this beautiful work. \nSee here for testimonials: www.meditationontherise.net/what-people-say/ \n 
URL:http://meditationontherise.net/event/la-ceremonia-de-tres-plantas-a-ceremony-of-three-plants/
LOCATION:Kensal Rise\, Kensal Rise\, London\, United Kingdom
CATEGORIES:Cacao Rituals
ATTACH;FMTTYPE=image/jpeg:http://meditationontherise.net/wp-content/uploads/2017/05/cacao.jpg
END:VEVENT
END:VCALENDAR