BEGIN:VCALENDAR
VERSION:2.0
PRODID:-//Meditation on the Rise - ECPv6.1.3//NONSGML v1.0//EN
CALSCALE:GREGORIAN
METHOD:PUBLISH
X-ORIGINAL-URL:http://meditationontherise.net
X-WR-CALDESC:Events for Meditation on the Rise
REFRESH-INTERVAL;VALUE=DURATION:PT1H
X-Robots-Tag:noindex
X-PUBLISHED-TTL:PT1H
BEGIN:VTIMEZONE
TZID:UTC
BEGIN:STANDARD
TZOFFSETFROM:+0000
TZOFFSETTO:+0000
TZNAME:UTC
DTSTART:20200101T000000
END:STANDARD
END:VTIMEZONE
BEGIN:VEVENT
DTSTART;TZID=UTC:20200215T140000
DTEND;TZID=UTC:20200215T170000
DTSTAMP:20260421T201546
CREATED:20191230T213258Z
LAST-MODIFIED:20191231T154921Z
UID:5444-1581775200-1581786000@meditationontherise.net
SUMMARY:Cacao Circle in Kensal Rise
DESCRIPTION:Saturday 15th February\, 2-5pm\nKensal Rise\, £33.\nBook with me here. \nEvery year I hold a Cacao Circle at this time with the intention of moving into greater self love\, compassion and acceptance. Simple\, deep and magical work to open your heart. \nAn opportunity to connect clearly with your heart and the power of love. Deepen your experience of clarity\, hope\, and inspiration. \nThese rituals are offered in a lovingly held and empowered energy medicine space. \nThe Cacao Spirit will support you to release from your being all energies you’re ready to leave behind and to become increasingly magnetic to everything you wish to call in. \nI have been blessed to be leading Cacao rituals for over 5 years\, supporting those who come to make tangible shifts in their Being through this beautiful work. \nSee here for testimonials: www.meditationontherise.net/what-people-say/ \n 
URL:http://meditationontherise.net/event/cacao-circle-to-celebrate-the-power-of-love/
LOCATION:Kensal Rise\, Kensal Rise\, London\, United Kingdom
CATEGORIES:Cacao Rituals
ATTACH;FMTTYPE=image/jpeg:http://meditationontherise.net/wp-content/uploads/2017/05/cacao.jpg
END:VEVENT
END:VCALENDAR