BEGIN:VCALENDAR
VERSION:2.0
PRODID:-//Meditation on the Rise - ECPv6.1.3//NONSGML v1.0//EN
CALSCALE:GREGORIAN
METHOD:PUBLISH
X-ORIGINAL-URL:http://meditationontherise.net
X-WR-CALDESC:Events for Meditation on the Rise
REFRESH-INTERVAL;VALUE=DURATION:PT1H
X-Robots-Tag:noindex
X-PUBLISHED-TTL:PT1H
BEGIN:VTIMEZONE
TZID:UTC
BEGIN:STANDARD
TZOFFSETFROM:+0000
TZOFFSETTO:+0000
TZNAME:UTC
DTSTART:20200101T000000
END:STANDARD
END:VTIMEZONE
BEGIN:VEVENT
DTSTART;TZID=UTC:20200109T093000
DTEND;TZID=UTC:20200109T104500
DTSTAMP:20260421T213130
CREATED:20191230T212053Z
LAST-MODIFIED:20191231T153101Z
UID:5426-1578562200-1578566700@meditationontherise.net
SUMMARY:Monthly Meditation Groups in Kensal Rise
DESCRIPTION:Sharing circle with guided shamanic visualisation to align with your peace and strength. \nEnergy Exchange of £15. \nBook your space: http://meditationontherise.net/product/thursday-meditation/ \nBook your space with me here. \n  \n  \n 
URL:http://meditationontherise.net/event/monthly-meditation-groups-in-kensal-rise/
CATEGORIES:Meditation
ATTACH;FMTTYPE=image/jpeg:http://meditationontherise.net/wp-content/uploads/2017/05/3up-guided-meditation.jpg
END:VEVENT
END:VCALENDAR